BEGIN:VCALENDAR
VERSION:2.0
PRODID:-//TYPO3/NONSGML News system (news)//EN
BEGIN:VEVENT
UID:news-520@www.tuev-verband.de
DTSTAMP:20230210T104200
DTSTART:20220516T181900
DTEND:
DTSTART;TZID=Europe/Berlin:20220516T181900
DTEND;TZID=Europe/Berlin:
SUMMARY:TÜV Mobility Studie 2022
END:VEVENT
END:VCALENDAR
