BEGIN:VCALENDAR
VERSION:2.0
PRODID:-//TYPO3/NONSGML News system (news)//EN
BEGIN:VEVENT
UID:news-545@www.tuev-verband.de
DTSTAMP:20220713T083259
DTSTART:20220712T083000
DTEND:
DTSTART;TZID=Europe/Berlin:20220712T083000
DTEND;TZID=Europe/Berlin:
SUMMARY:Schutz bei Stromausfall: Jedes vierte Notstromaggregat hat erhebliche Mängel
END:VEVENT
END:VCALENDAR
