BEGIN:VCALENDAR
VERSION:2.0
PRODID:-//TYPO3/NONSGML News system (news)//EN
BEGIN:VEVENT
UID:news-595@www.tuev-verband.de
DTSTAMP:20221209T152204
DTSTART:20221209T145749
DTEND:
DTSTART;TZID=Europe/Berlin:20221209T145749
DTEND;TZID=Europe/Berlin:
SUMMARY:Zum Digitalgipfel: Datenqualität wird Wettbewerbsfaktor 
END:VEVENT
END:VCALENDAR
