BEGIN:VCALENDAR
VERSION:2.0
PRODID:-//TYPO3/NONSGML News system (news)//EN
BEGIN:VEVENT
UID:news-828@www.tuev-verband.de
DTSTAMP:20241028T115307
DTSTART:20240604T110000
DTEND:
DTSTART;TZID=Europe/Berlin:20240604T110000
DTEND;TZID=Europe/Berlin:
SUMMARY:Verkehrssicherheit: Mehrheit hält Verteilung des Verkehrsraums für ungerecht
END:VEVENT
END:VCALENDAR
