BEGIN:VCALENDAR
VERSION:2.0
PRODID:-//TYPO3/NONSGML News system (news)//EN
BEGIN:VEVENT
UID:news-42@www.tuev-verband.de
DTSTAMP:20201211T102614
DTSTART:20200228T100000
DTEND:
DTSTART;TZID=Europe/Berlin:20200228T100000
DTEND;TZID=Europe/Berlin:
SUMMARY:Umfrage: Flugscham führt zu Flugverzicht
END:VEVENT
END:VCALENDAR
