BEGIN:VCALENDAR
VERSION:2.0
PRODID:-//TYPO3/NONSGML News system (news)//EN
BEGIN:VEVENT
UID:news-218@www.tuev-verband.de
DTSTAMP:20211025T120808
DTSTART:20190830T103700
DTEND:
DTSTART;TZID=Europe/Berlin:20190830T103700
DTEND;TZID=Europe/Berlin:
SUMMARY:So gelingt der Umbau vom Transporter zum Wohnmobil
END:VEVENT
END:VCALENDAR
