BEGIN:VCALENDAR
VERSION:2.0
PRODID:-//TYPO3/NONSGML News system (news)//EN
BEGIN:VEVENT
UID:news-1098@www.tuev-verband.de
DTSTAMP:20260423T073959
DTSTART:20260423T080000
DTEND:
DTSTART;TZID=Europe/Berlin:20260423T080000
DTEND;TZID=Europe/Berlin:
SUMMARY:Sprit sparen: Was Fahrweise und Fahrzeugzustand bewirken
END:VEVENT
END:VCALENDAR
