BEGIN:VCALENDAR
VERSION:2.0
PRODID:-//TYPO3/NONSGML News system (news)//EN
BEGIN:VEVENT
UID:news-335@www.tuev-verband.de
DTSTAMP:20210528T090801
DTSTART:20210528T081600
DTEND:
DTSTART;TZID=Europe/Berlin:20210528T081600
DTEND;TZID=Europe/Berlin:
SUMMARY:TÜV-Verband zur Sicherheit von Seilbahnen 
END:VEVENT
END:VCALENDAR
