BEGIN:VCALENDAR
VERSION:2.0
PRODID:-//TYPO3/NONSGML News system (news)//EN
BEGIN:VEVENT
UID:news-369@www.tuev-verband.de
DTSTAMP:20210712T141134
DTSTART:20181024T142700
DTEND:
DTSTART;TZID=Europe/Berlin:20181024T142700
DTEND;TZID=Europe/Berlin:
SUMMARY:Nebenwirkungen von Medikamenten gefährden Autofahrer:innen
END:VEVENT
END:VCALENDAR
