BEGIN:VCALENDAR
VERSION:2.0
PRODID:-//TYPO3/NONSGML News system (news)//EN
BEGIN:VEVENT
UID:news-424@www.tuev-verband.de
DTSTAMP:20211104T092105
DTSTART:20211104T090357
DTEND:
DTSTART;TZID=Europe/Berlin:20211104T090357
DTEND;TZID=Europe/Berlin:
SUMMARY:Mit Lastenrädern sicher unterwegs
END:VEVENT
END:VCALENDAR
