BEGIN:VCALENDAR
VERSION:2.0
PRODID:-//TYPO3/NONSGML News system (news)//EN
BEGIN:VEVENT
UID:news-708@www.tuev-verband.de
DTSTAMP:20231004T141719
DTSTART:20230926T084500
DTEND:
DTSTART;TZID=Europe/Berlin:20230926T084500
DTEND;TZID=Europe/Berlin:
SUMMARY:Lagerfeuer ohne Reue: Sicherer Umgang mit Feuerschalen
END:VEVENT
END:VCALENDAR
