BEGIN:VCALENDAR
VERSION:2.0
PRODID:-//TYPO3/NONSGML News system (news)//EN
BEGIN:VEVENT
UID:news-227@www.tuev-verband.de
DTSTAMP:20210211T082054
DTSTART:20210210T151654
DTEND:
DTSTART;TZID=Europe/Berlin:20210210T151654
DTEND;TZID=Europe/Berlin:
SUMMARY:Statement des TÜV-Verbands zum Kabinettsbeschluss zum autonomen Fahren
END:VEVENT
END:VCALENDAR
