BEGIN:VCALENDAR
VERSION:2.0
PRODID:-//TYPO3/NONSGML News system (news)//EN
BEGIN:VEVENT
UID:news-1096@www.tuev-verband.de
DTSTAMP:20260420T083655
DTSTART:20260420T083000
DTEND:
DTSTART;TZID=Europe/Berlin:20260420T083000
DTEND;TZID=Europe/Berlin:
SUMMARY:Hannover Messe: TÜV-Verband fordert einheitliche Rahmenbedingungen für industrielle KI
END:VEVENT
END:VCALENDAR
