BEGIN:VCALENDAR
VERSION:2.0
PRODID:-//TYPO3/NONSGML News system (news)//EN
BEGIN:VEVENT
UID:news-713@www.tuev-verband.de
DTSTAMP:20250901T090716
DTSTART:20231011T100000
DTEND:
DTSTART;TZID=Europe/Berlin:20231011T100000
DTEND;TZID=Europe/Berlin:
SUMMARY:Gut jedes vierte mittelständische Unternehmen erstellt Nachhaltigkeitsbericht
END:VEVENT
END:VCALENDAR
