BEGIN:VCALENDAR
VERSION:2.0
PRODID:-//TYPO3/NONSGML News system (news)//EN
BEGIN:VEVENT
UID:news-627@www.tuev-verband.de
DTSTAMP:20230224T084717
DTSTART:20230224T084500
DTEND:
DTSTART;TZID=Europe/Berlin:20230224T084500
DTEND;TZID=Europe/Berlin:
SUMMARY:Gesünder arbeiten mit höhenverstellbarem Schreibtisch
END:VEVENT
END:VCALENDAR
