BEGIN:VCALENDAR
VERSION:2.0
PRODID:-//TYPO3/NONSGML News system (news)//EN
BEGIN:VEVENT
UID:news-608@www.tuev-verband.de
DTSTAMP:20230105T083523
DTSTART:20230105T084500
DTEND:
DTSTART;TZID=Europe/Berlin:20230105T084500
DTEND;TZID=Europe/Berlin:
SUMMARY:Folgen des Ukraine-Kriegs treiben Nachhaltigkeit in der Wirtschaft voran
END:VEVENT
END:VCALENDAR
