BEGIN:VCALENDAR
VERSION:2.0
PRODID:-//TYPO3/NONSGML News system (news)//EN
BEGIN:VEVENT
UID:news-549@www.tuev-verband.de
DTSTAMP:20220811T093856
DTSTART:20220811T093106
DTEND:
DTSTART;TZID=Europe/Berlin:20220811T093106
DTEND;TZID=Europe/Berlin:
SUMMARY:Fahrräder sicher transportieren: Worauf bei Fahrradträgern zu achten ist
END:VEVENT
END:VCALENDAR
