BEGIN:VCALENDAR
VERSION:2.0
PRODID:-//TYPO3/NONSGML News system (news)//EN
BEGIN:VEVENT
UID:news-842@www.tuev-verband.de
DTSTAMP:20240801T120549
DTSTART:20240730T140136
DTEND:
DTSTART;TZID=Europe/Berlin:20240730T140136
DTEND;TZID=Europe/Berlin:
SUMMARY:EU AI Act tritt in Kraft: TÜV AI.Lab bietet Compliance-Check für Künstliche Intelligenz an
END:VEVENT
END:VCALENDAR
