BEGIN:VCALENDAR
VERSION:2.0
PRODID:-//TYPO3/NONSGML News system (news)//EN
BEGIN:VEVENT
UID:news-62@www.tuev-verband.de
DTSTAMP:20201211T102524
DTSTART:20200612T100000
DTEND:
DTSTART;TZID=Europe/Berlin:20200612T100000
DTEND;TZID=Europe/Berlin:
SUMMARY:Ein Jahr E-Scooter: TÜV-Verband fordert höhere Sicherheit und einheitliche EU-Regeln 
END:VEVENT
END:VCALENDAR
