BEGIN:VCALENDAR
VERSION:2.0
PRODID:-//TYPO3/NONSGML News system (news)//EN
BEGIN:VEVENT
UID:news-546@www.tuev-verband.de
DTSTAMP:20220830T152443
DTSTART:20220721T083000
DTEND:
DTSTART;TZID=Europe/Berlin:20220721T083000
DTEND;TZID=Europe/Berlin:
SUMMARY:TÜV-Verband gibt Tipps für sichere E-Bike-Touren
END:VEVENT
END:VCALENDAR
