BEGIN:VCALENDAR
VERSION:2.0
PRODID:-//TYPO3/NONSGML News system (news)//EN
BEGIN:VEVENT
UID:news-140@www.tuev-verband.de
DTSTAMP:20230504T154852
DTSTART:20191105T100000
DTEND:
DTSTART;TZID=Europe/Berlin:20191105T100000
DTEND;TZID=Europe/Berlin:
SUMMARY:Cybersecurity-Studie: Unternehmen fordern strengere gesetzliche Vorgaben für IT-Sicherheit 
END:VEVENT
END:VCALENDAR
