BEGIN:VCALENDAR
VERSION:2.0
PRODID:-//TYPO3/NONSGML News system (news)//EN
BEGIN:VEVENT
UID:news-1097@www.tuev-verband.de
DTSTAMP:20260422T121316
DTSTART:20260417T100000
DTEND:
DTSTART;TZID=Europe/Berlin:20260417T100000
DTEND;TZID=Europe/Berlin:
SUMMARY:Stellungnahme zur Umsetzung der Energieeffizienzrichtlinie
END:VEVENT
END:VCALENDAR
