BEGIN:VCALENDAR
VERSION:2.0
PRODID:-//TYPO3/NONSGML News system (news)//EN
BEGIN:VEVENT
UID:news-891@www.tuev-verband.de
DTSTAMP:20260216T141434
DTSTART:20241203T092826
DTEND:
DTSTART;TZID=Europe/Berlin:20241203T092826
DTEND;TZID=Europe/Berlin:
SUMMARY:Kurzstellungnahme zum Entwurf eines Gesetzes zur Einführung von Ausschreibungen für gesicherte Kraftwerksleistung (Kraftwerkssicherheitsgesetz)
END:VEVENT
END:VCALENDAR
