BEGIN:VCALENDAR
VERSION:2.0
PRODID:-//TYPO3/NONSGML News system (news)//EN
BEGIN:VEVENT
UID:news-215@www.tuev-verband.de
DTSTAMP:20210219T104739
DTSTART:20210127T203944
DTEND:
DTSTART;TZID=Europe/Berlin:20210127T203944
DTEND;TZID=Europe/Berlin:
SUMMARY:Empfehlungen für die Sicherheit autonomer Fahrzeuge
END:VEVENT
END:VCALENDAR
