BEGIN:VCALENDAR
VERSION:2.0
PRODID:-//TYPO3/NONSGML News system (news)//EN
BEGIN:VEVENT
UID:news-585@www.tuev-verband.de
DTSTAMP:20221205T100031
DTSTART:20221202T125814
DTEND:
DTSTART;TZID=Europe/Berlin:20221202T125814
DTEND;TZID=Europe/Berlin:
SUMMARY:Position on the EU Commission proposal for a Cyber Resilience Act
END:VEVENT
END:VCALENDAR
