BEGIN:VCALENDAR
VERSION:2.0
PRODID:-//TYPO3/NONSGML News system (news)//EN
BEGIN:VEVENT
UID:news-924@www.tuev-verband.de
DTSTAMP:20250407T102007
DTSTART:20250307T085405
DTEND:
DTSTART;TZID=Europe/Berlin:20250307T085405
DTEND;TZID=Europe/Berlin:
SUMMARY:Why the EU Parliament needs to improve the EU Action Plan for the Automotive Industry  
END:VEVENT
END:VCALENDAR
